BEGIN:VCALENDAR
VERSION:2.0
CALSCALE:GREGORIAN
BEGIN:VEVENT
CREATED:20250721T152704Z
UID:3522
DTSTART;TZID=America/Chicago:20251002T180000
DTEND;TZID=America/Chicago:20251002T210000
DTSTAMP:20260420T183312Z
LOCATION:Family Service & Guidance Center - 327 S.W. Frazier Ave.\, Topeka\, KS 66606
DESCRIPTION:<h5>We've begun our final CARE training for 2025.</h5> <h5>Please check back regularly for our 2026 presentation schedule.</h5> <h5><em>Thank you for your interest in parenting groups at FSGC!</em></h5> <h5></h5>  
SUMMARY:CARE (Child-Adult Relationship Enhancement) training
ORGANIZER:FSGC Topeka
URL;VALUE=URI:https://www.fsgctopeka.com/event/care-child-adult-relationship-enhancement-training/
TRANSP:OPAQUE
BEGIN:VALARM
ACTION:DISPLAY
TRIGGER;VALUE=DATE-TIME:20251002T170000
DESCRIPTION:Reminder for FSGC and Valeo celebrate historic day
END:VALARM
END:VEVENT
END:VCALENDAR